BEGIN:VCALENDAR
VERSION:2.0
PRODID:-//Tantrazone.dk - Tantrabehandling i København - ECPv6.15.20//NONSGML v1.0//EN
CALSCALE:GREGORIAN
METHOD:PUBLISH
X-WR-CALNAME:Tantrazone.dk - Tantrabehandling i København
X-ORIGINAL-URL:https://vyjfyz19361.c.updraftclone.com
X-WR-CALDESC:Events for Tantrazone.dk - Tantrabehandling i København
REFRESH-INTERVAL;VALUE=DURATION:PT1H
X-Robots-Tag:noindex
X-PUBLISHED-TTL:PT1H
BEGIN:VTIMEZONE
TZID:Europe/Copenhagen
BEGIN:DAYLIGHT
TZOFFSETFROM:+0100
TZOFFSETTO:+0200
TZNAME:CEST
DTSTART:20240331T010000
END:DAYLIGHT
BEGIN:STANDARD
TZOFFSETFROM:+0200
TZOFFSETTO:+0100
TZNAME:CET
DTSTART:20241027T010000
END:STANDARD
BEGIN:DAYLIGHT
TZOFFSETFROM:+0100
TZOFFSETTO:+0200
TZNAME:CEST
DTSTART:20250330T010000
END:DAYLIGHT
BEGIN:STANDARD
TZOFFSETFROM:+0200
TZOFFSETTO:+0100
TZNAME:CET
DTSTART:20251026T010000
END:STANDARD
BEGIN:DAYLIGHT
TZOFFSETFROM:+0100
TZOFFSETTO:+0200
TZNAME:CEST
DTSTART:20260329T010000
END:DAYLIGHT
BEGIN:STANDARD
TZOFFSETFROM:+0200
TZOFFSETTO:+0100
TZNAME:CET
DTSTART:20261025T010000
END:STANDARD
END:VTIMEZONE
BEGIN:VEVENT
DTSTART;TZID=Europe/Copenhagen:20250606T080000
DTEND;TZID=Europe/Copenhagen:20250606T170000
DTSTAMP:20260420T083533
CREATED:20250606T073105Z
LAST-MODIFIED:20250606T073415Z
UID:3274-1749196800-1749229200@vyjfyz19361.c.updraftclone.com
SUMMARY:test event 6
DESCRIPTION:dsagdfvcacda
URL:https://vyjfyz19361.c.updraftclone.com/event/test-event-6/
LOCATION:Ellevilde Boutique Hotel\, Dalgårdsvej 2\, Borre\, 4791\, Denmark
CATEGORIES:Test
ATTACH;FMTTYPE=image/jpeg:https://vyjfyz19361.c.updraftclone.com/wp-content/uploads/2025/06/Diana-og-Martin-paa-Ellevilde.jpg
END:VEVENT
BEGIN:VEVENT
DTSTART;TZID=Europe/Copenhagen:20250606T080000
DTEND;TZID=Europe/Copenhagen:20250606T170000
DTSTAMP:20260420T083533
CREATED:20250606T072147Z
LAST-MODIFIED:20250606T072147Z
UID:3271-1749196800-1749229200@vyjfyz19361.c.updraftclone.com
SUMMARY:test event 5
DESCRIPTION:dfhsdfbgsdfbtest
URL:https://vyjfyz19361.c.updraftclone.com/event/test-event-5/
LOCATION:Ellevilde Boutique Hotel\, Dalgårdsvej 2\, Borre\, 4791\, Denmark
CATEGORIES:Test
ATTACH;FMTTYPE=image/jpeg:https://vyjfyz19361.c.updraftclone.com/wp-content/uploads/2025/06/Diana-og-Martin-paa-Ellevilde.jpg
END:VEVENT
BEGIN:VEVENT
DTSTART;TZID=Europe/Copenhagen:20250606T080000
DTEND;TZID=Europe/Copenhagen:20250606T170000
DTSTAMP:20260420T083533
CREATED:20250606T071728Z
LAST-MODIFIED:20250606T071728Z
UID:3268-1749196800-1749229200@vyjfyz19361.c.updraftclone.com
SUMMARY:test event 4
DESCRIPTION:fsbsdfbdsfvsdfvs
URL:https://vyjfyz19361.c.updraftclone.com/event/test-event-4/
CATEGORIES:Test
ATTACH;FMTTYPE=image/jpeg:https://vyjfyz19361.c.updraftclone.com/wp-content/uploads/2025/06/Diana-og-Martin-paa-Ellevilde.jpg
END:VEVENT
BEGIN:VEVENT
DTSTART;TZID=Europe/Copenhagen:20250606T080000
DTEND;TZID=Europe/Copenhagen:20250606T170000
DTSTAMP:20260420T083533
CREATED:20250606T071017Z
LAST-MODIFIED:20250606T071017Z
UID:3264-1749196800-1749229200@vyjfyz19361.c.updraftclone.com
SUMMARY:test event 3
DESCRIPTION:fsbfdfvsvfd
URL:https://vyjfyz19361.c.updraftclone.com/event/test-event-3/
CATEGORIES:Test
END:VEVENT
BEGIN:VEVENT
DTSTART;TZID=Europe/Copenhagen:20250526T013000
DTEND;TZID=Europe/Copenhagen:20250526T040000
DTSTAMP:20260420T083533
CREATED:20250421T104110Z
LAST-MODIFIED:20250529T141521Z
UID:3075-1748223000-1748232000@vyjfyz19361.c.updraftclone.com
SUMMARY:Test event #2
DESCRIPTION:This is test
URL:https://vyjfyz19361.c.updraftclone.com/event/test-event-2/
LOCATION:Venue Name\, Address\, City\, State or Province\, 80749\, Lao People's Democratic Republic
CATEGORIES:Test
ATTACH;FMTTYPE=image/jpeg:https://vyjfyz19361.c.updraftclone.com/wp-content/uploads/2025/04/293425_2358526438595_632218798_n.jpg
ORGANIZER;CN="Organizer Name":MAILTO:kuvet@mailinator.com
END:VEVENT
BEGIN:VEVENT
DTSTART;TZID=Europe/Copenhagen:20250427T010000
DTEND;TZID=Europe/Copenhagen:20250427T013000
DTSTAMP:20260420T083533
CREATED:20250421T103926Z
LAST-MODIFIED:20250421T103927Z
UID:3067-1745715600-1745717400@vyjfyz19361.c.updraftclone.com
SUMMARY:Test event
DESCRIPTION:This is test
URL:https://vyjfyz19361.c.updraftclone.com/event/test-event/
LOCATION:Venue Name\, Address\, City\, State or Province\, 80749\, Lao People's Democratic Republic
CATEGORIES:Test
ATTACH;FMTTYPE=image/jpeg:https://vyjfyz19361.c.updraftclone.com/wp-content/uploads/2025/04/293425_2358526438595_632218798_n.jpg
ORGANIZER;CN="Organizer Name":MAILTO:kuvet@mailinator.com
END:VEVENT
END:VCALENDAR